BEGIN:VCALENDAR
VERSION:2.0
PRODID:-//susannes-kreativzeit.de - ECPv6.15.20//NONSGML v1.0//EN
CALSCALE:GREGORIAN
METHOD:PUBLISH
X-WR-CALNAME:susannes-kreativzeit.de
X-ORIGINAL-URL:https://susannes-kreativzeit.de
X-WR-CALDESC:Veranstaltungen für susannes-kreativzeit.de
REFRESH-INTERVAL;VALUE=DURATION:PT1H
X-Robots-Tag:noindex
X-PUBLISHED-TTL:PT1H
BEGIN:VTIMEZONE
TZID:Europe/Berlin
BEGIN:DAYLIGHT
TZOFFSETFROM:+0100
TZOFFSETTO:+0200
TZNAME:CEST
DTSTART:20240331T010000
END:DAYLIGHT
BEGIN:STANDARD
TZOFFSETFROM:+0200
TZOFFSETTO:+0100
TZNAME:CET
DTSTART:20241027T010000
END:STANDARD
BEGIN:DAYLIGHT
TZOFFSETFROM:+0100
TZOFFSETTO:+0200
TZNAME:CEST
DTSTART:20250330T010000
END:DAYLIGHT
BEGIN:STANDARD
TZOFFSETFROM:+0200
TZOFFSETTO:+0100
TZNAME:CET
DTSTART:20251026T010000
END:STANDARD
BEGIN:DAYLIGHT
TZOFFSETFROM:+0100
TZOFFSETTO:+0200
TZNAME:CEST
DTSTART:20260329T010000
END:DAYLIGHT
BEGIN:STANDARD
TZOFFSETFROM:+0200
TZOFFSETTO:+0100
TZNAME:CET
DTSTART:20261025T010000
END:STANDARD
END:VTIMEZONE
BEGIN:VEVENT
DTSTART;TZID=Europe/Berlin:20251002T160000
DTEND;TZID=Europe/Berlin:20251002T173000
DTSTAMP:20260421T151246
CREATED:20250920T184528Z
LAST-MODIFIED:20250920T185005Z
UID:3042-1759420800-1759426200@susannes-kreativzeit.de
SUMMARY:WIR MALEN UND BASTELN ZUM THEMA HERBST
DESCRIPTION:FÜR KINDER VON 5 – 10 JAHRE \nWIR MALEN UND BASTELN ZUM THEMA HERBST \nTERMINE:\n02.10.25 16:00 – 17:30 UHR \n22 € PRO TERMIN (MATERIAL IM PREIS ENTHALTEN) \nAnmeldung / Kontakt: info@susannes-kreativzeit.de \nOrt: Schildgen Bergisch Gladbach\n(Adresse bei Anmeldung)
URL:https://susannes-kreativzeit.de/veranstaltung/wir-malen-und-basteln-zum-thema-herbst/
LOCATION:Susannes Kreativzeit\, Schildgen\, Bergisch Gladbach\, Bundesland: NRW\, 51467\, Germany
CATEGORIES:Kurs,Workshop
ATTACH;FMTTYPE=image/jpeg:https://susannes-kreativzeit.de/wp-content/uploads/2025/09/halloween25.jpg
END:VEVENT
BEGIN:VEVENT
DTSTART;TZID=Europe/Berlin:20251006T161500
DTEND;TZID=Europe/Berlin:20251006T171500
DTSTAMP:20260421T151246
CREATED:20250717T204435Z
LAST-MODIFIED:20250917T191759Z
UID:2991-1759767300-1759770900@susannes-kreativzeit.de
SUMMARY:MINI & ME - WIR BASTELN EINEN TRAUMFÄNGER!
DESCRIPTION:MINI & ME – AB 4 JAHRE MIT EINER BEZUGSPERSON \nSEI DABEI !\nGemeinsam bastelst du mit deiner Bezugsperson einen Traumfänger zum Thema Weltraum oder Einhorn. \n06.10.25 16:15 -17:15 Uhr \nKOSTEN: 16€ (PRO TERMIN\, INKL. MATERIAL) \nAnmeldung / Kontakt: info@susannes-kreativzeit.de \nOrt: Schildgen Bergisch Gladbach\n(Adresse bei Anmeldung)
URL:https://susannes-kreativzeit.de/veranstaltung/mini-me-wir-basteln-einen-traumfaenger1/
LOCATION:Susannes Kreativzeit\, Schildgen\, Bergisch Gladbach\, Bundesland: NRW\, 51467\, Germany
CATEGORIES:Kurs,Workshop
ATTACH;FMTTYPE=image/jpeg:https://susannes-kreativzeit.de/wp-content/uploads/2025/09/traumfaenger.jpg
END:VEVENT
BEGIN:VEVENT
DTSTART;TZID=Europe/Berlin:20251009T161500
DTEND;TZID=Europe/Berlin:20251009T171500
DTSTAMP:20260421T151246
CREATED:20250917T121052Z
LAST-MODIFIED:20250917T191724Z
UID:3008-1760026500-1760030100@susannes-kreativzeit.de
SUMMARY:MINI & ME - WIR BASTELN EINEN TRAUMFÄNGER!
DESCRIPTION:MINI & ME – AB 4 JAHRE MIT EINER BEZUGSPERSON \nSEI DABEI !\nGemeinsam bastelst du mit deiner Bezugsperson einen Traumfänger zum Thema Weltraum oder Einhorn. \n09.10.25 16:15 -17:15 Uhr \nKOSTEN: 16€ (PRO TERMIN\, INKL. MATERIAL) \nAnmeldung / Kontakt: info@susannes-kreativzeit.de \nOrt: Schildgen Bergisch Gladbach\n(Adresse bei Anmeldung)
URL:https://susannes-kreativzeit.de/veranstaltung/mini-me-wir-basteln-einen-traumfaenger/
LOCATION:Susannes Kreativzeit\, Schildgen\, Bergisch Gladbach\, Bundesland: NRW\, 51467\, Germany
CATEGORIES:Kurs,Workshop
ATTACH;FMTTYPE=image/jpeg:https://susannes-kreativzeit.de/wp-content/uploads/2025/09/traumfaenger.jpg
END:VEVENT
BEGIN:VEVENT
DTSTART;TZID=Europe/Berlin:20251010T153000
DTEND;TZID=Europe/Berlin:20251010T161500
DTSTAMP:20260421T151246
CREATED:20250917T191508Z
LAST-MODIFIED:20250917T192128Z
UID:3017-1760110200-1760112900@susannes-kreativzeit.de
SUMMARY:MINI & ME - Herbst Workshop
DESCRIPTION:Ab 2 Jahren – 4 Jahre mit einer Bezugsperson \nWann:\n10.10.25 15:30 -16:15 Uhr \nKosten:\n15 € (inkl. Material) \nAnmeldung / Kontakt: info@susannes-kreativzeit.de \nOrt: Schildgen Bergisch Gladbach\n(Adresse bei Anmeldung)
URL:https://susannes-kreativzeit.de/veranstaltung/mini-me-herbst-workshop/
LOCATION:Susannes Kreativzeit\, Schildgen\, Bergisch Gladbach\, Bundesland: NRW\, 51467\, Germany
CATEGORIES:Kurs,Workshop
ATTACH;FMTTYPE=image/jpeg:https://susannes-kreativzeit.de/wp-content/uploads/2025/09/herbstworkshop.jpg
END:VEVENT
BEGIN:VEVENT
DTSTART;TZID=Europe/Berlin:20251016T160000
DTEND;TZID=Europe/Berlin:20251016T173000
DTSTAMP:20260421T151246
CREATED:20250920T184941Z
LAST-MODIFIED:20250920T185613Z
UID:3046-1760630400-1760635800@susannes-kreativzeit.de
SUMMARY:WIR MALEN UND BASTELN ZUM THEMA HERBST
DESCRIPTION:FÜR KINDER VON 5 – 10 JAHRE \nWIR MALEN UND BASTELN ZUM THEMA HERBST \nTERMINE:\n16.10.25 16:00 – 17:30 UHR \n22 € PRO TERMIN (MATERIAL IM PREIS ENTHALTEN) \nAnmeldung / Kontakt: info@susannes-kreativzeit.de \nOrt: Schildgen Bergisch Gladbach\n(Adresse bei Anmeldung)
URL:https://susannes-kreativzeit.de/veranstaltung/wir-malen-und-basteln-zum-thema-herbst-2/
LOCATION:Susannes Kreativzeit\, Schildgen\, Bergisch Gladbach\, Bundesland: NRW\, 51467\, Germany
CATEGORIES:Kurs,Workshop
ATTACH;FMTTYPE=image/jpeg:https://susannes-kreativzeit.de/wp-content/uploads/2025/09/halloween25.jpg
END:VEVENT
BEGIN:VEVENT
DTSTART;TZID=Europe/Berlin:20251020T160000
DTEND;TZID=Europe/Berlin:20251020T173000
DTSTAMP:20260421T151246
CREATED:20250920T190030Z
LAST-MODIFIED:20250920T190222Z
UID:3049-1760976000-1760981400@susannes-kreativzeit.de
SUMMARY:HALLOWEEN-BASTELN
DESCRIPTION:FÜR KINDER VON 5 – 10 JAHREN \nHALLOWEEN-BASTELN \n20.10.25 16:00 – 17:30 UHR \n22 € PRO TERMIN (MATERIAL IM PREIS ENTHALTEN) \nAnmeldung / Kontakt: info@susannes-kreativzeit.de \nOrt: Schildgen Bergisch Gladbach\n(Adresse bei Anmeldung)
URL:https://susannes-kreativzeit.de/veranstaltung/halloween-basteln/
LOCATION:Susannes Kreativzeit\, Schildgen\, Bergisch Gladbach\, Bundesland: NRW\, 51467\, Germany
CATEGORIES:Kurs,Workshop
ATTACH;FMTTYPE=image/jpeg:https://susannes-kreativzeit.de/wp-content/uploads/2025/09/halloween25.jpg
END:VEVENT
BEGIN:VEVENT
DTSTART;TZID=Europe/Berlin:20251023T153000
DTEND;TZID=Europe/Berlin:20251023T161500
DTSTAMP:20260421T151246
CREATED:20250920T192351Z
LAST-MODIFIED:20250920T192848Z
UID:3057-1761233400-1761236100@susannes-kreativzeit.de
SUMMARY:MINI & ME BASTEL-FUN
DESCRIPTION:FUR KINDER MIT EINER BEZUGSPERSON 2 – 4 JAHRE \nMINI & ME BASTEL-FUN \n23.10.25 15:30 – 16:15 \nPro Termin: 15 € (Material im Preis enthalten) \n  \nAnmeldung / Kontakt: info@susannes-kreativzeit.de \nOrt: Schildgen Bergisch Gladbach\n(Adresse bei Anmeldung)
URL:https://susannes-kreativzeit.de/veranstaltung/mini-me-bastel-fun/
LOCATION:Susannes Kreativzeit\, Schildgen\, Bergisch Gladbach\, Bundesland: NRW\, 51467\, Germany
CATEGORIES:Kurs,Workshop
ATTACH;FMTTYPE=image/jpeg:https://susannes-kreativzeit.de/wp-content/uploads/2025/09/bastelfun25.jpg
END:VEVENT
BEGIN:VEVENT
DTSTART;TZID=Europe/Berlin:20251024T153000
DTEND;TZID=Europe/Berlin:20251024T161500
DTSTAMP:20260421T151246
CREATED:20250920T193031Z
LAST-MODIFIED:20250920T193333Z
UID:3064-1761319800-1761322500@susannes-kreativzeit.de
SUMMARY:MINI & ME BASTEL-FUN
DESCRIPTION:FUR KINDER MIT EINER BEZUGSPERSON 2 – 4 JAHRE \nMINI & ME BASTEL-FUN \n24.10.25 15:30 – 16:15 \nPro Termin: 15 € (Material im Preis enthalten) \n  \nAnmeldung / Kontakt: info@susannes-kreativzeit.de \nOrt: Schildgen Bergisch Gladbach\n(Adresse bei Anmeldung)
URL:https://susannes-kreativzeit.de/veranstaltung/mini-me-bastel-fun-2/
LOCATION:Susannes Kreativzeit\, Schildgen\, Bergisch Gladbach\, Bundesland: NRW\, 51467\, Germany
CATEGORIES:Kurs,Workshop
ATTACH;FMTTYPE=image/jpeg:https://susannes-kreativzeit.de/wp-content/uploads/2025/09/bastelfun25.jpg
END:VEVENT
BEGIN:VEVENT
DTSTART;TZID=Europe/Berlin:20251027T160000
DTEND;TZID=Europe/Berlin:20251027T173000
DTSTAMP:20260421T151246
CREATED:20250920T190332Z
LAST-MODIFIED:20250920T190332Z
UID:3053-1761580800-1761586200@susannes-kreativzeit.de
SUMMARY:HALLOWEEN-BASTELN
DESCRIPTION:FÜR KINDER VON 5 – 10 JAHREN \nHALLOWEEN-BASTELN \n27.10.25 16:00 – 17:30 UHR \n22 € PRO TERMIN (MATERIAL IM PREIS ENTHALTEN) \nAnmeldung / Kontakt: info@susannes-kreativzeit.de \nOrt: Schildgen Bergisch Gladbach\n(Adresse bei Anmeldung)
URL:https://susannes-kreativzeit.de/veranstaltung/halloween-basteln-2/
LOCATION:Susannes Kreativzeit\, Schildgen\, Bergisch Gladbach\, Bundesland: NRW\, 51467\, Germany
CATEGORIES:Kurs,Workshop
ATTACH;FMTTYPE=image/jpeg:https://susannes-kreativzeit.de/wp-content/uploads/2025/09/halloween25.jpg
END:VEVENT
END:VCALENDAR