BEGIN:VCALENDAR
VERSION:2.0
PRODID:-//susannes-kreativzeit.de - ECPv6.15.20//NONSGML v1.0//EN
CALSCALE:GREGORIAN
METHOD:PUBLISH
X-ORIGINAL-URL:https://susannes-kreativzeit.de
X-WR-CALDESC:Veranstaltungen für susannes-kreativzeit.de
REFRESH-INTERVAL;VALUE=DURATION:PT1H
X-Robots-Tag:noindex
X-PUBLISHED-TTL:PT1H
BEGIN:VTIMEZONE
TZID:Europe/Berlin
BEGIN:DAYLIGHT
TZOFFSETFROM:+0100
TZOFFSETTO:+0200
TZNAME:CEST
DTSTART:20240331T010000
END:DAYLIGHT
BEGIN:STANDARD
TZOFFSETFROM:+0200
TZOFFSETTO:+0100
TZNAME:CET
DTSTART:20241027T010000
END:STANDARD
BEGIN:DAYLIGHT
TZOFFSETFROM:+0100
TZOFFSETTO:+0200
TZNAME:CEST
DTSTART:20250330T010000
END:DAYLIGHT
BEGIN:STANDARD
TZOFFSETFROM:+0200
TZOFFSETTO:+0100
TZNAME:CET
DTSTART:20251026T010000
END:STANDARD
BEGIN:DAYLIGHT
TZOFFSETFROM:+0100
TZOFFSETTO:+0200
TZNAME:CEST
DTSTART:20260329T010000
END:DAYLIGHT
BEGIN:STANDARD
TZOFFSETFROM:+0200
TZOFFSETTO:+0100
TZNAME:CET
DTSTART:20261025T010000
END:STANDARD
END:VTIMEZONE
BEGIN:VEVENT
DTSTART;TZID=Europe/Berlin:20250307T153000
DTEND;TZID=Europe/Berlin:20250307T163000
DTSTAMP:20260423T232230
CREATED:20250203T213747Z
LAST-MODIFIED:20250314T201450Z
UID:2894-1741361400-1741365000@susannes-kreativzeit.de
SUMMARY:Oster-Anhänger bemalen
DESCRIPTION:Oster-Anhänger bemalen\nFür Kinder ab 6 Jahren \nFR. 07.03.25 VON 15:30 – 16:30\nODER\nDI 11.03.25 VON 16:00 – 17:00\nPREIS:18 € \nAnmeldung erforderlich: info@susannes-kreativzeit.de\noder\nWhatsApp:\n0157/71478976\nOrt:\nBergisch Gladbach\n(Adresse bei Anmeldung)
URL:https://susannes-kreativzeit.de/veranstaltung/oster-anhaenger-bemalen/
LOCATION:Bundesland: NRW
CATEGORIES:Kurs,Workshop
ATTACH;FMTTYPE=image/jpeg:https://susannes-kreativzeit.de/wp-content/uploads/2025/02/Ostern25.jpg
END:VEVENT
BEGIN:VEVENT
DTSTART;TZID=Europe/Berlin:20250311T160000
DTEND;TZID=Europe/Berlin:20250311T170000
DTSTAMP:20260423T232230
CREATED:20250203T214030Z
LAST-MODIFIED:20250314T201424Z
UID:2899-1741708800-1741712400@susannes-kreativzeit.de
SUMMARY:Oster-Anhänger bemalen
DESCRIPTION:Oster-Anhänger bemalen\nFür Kinder ab 6 Jahren \nFR. 07.03.25 VON 15:30 – 16:30\nODER\nDI 11.03.25 VON 16:00 – 17:00\nPREIS:18 € \nAnmeldung erforderlich: info@susannes-kreativzeit.de\noder\nWhatsApp:\n0157/71478976\nOrt:\nBergisch Gladbach\n(Adresse bei Anmeldung)
URL:https://susannes-kreativzeit.de/veranstaltung/oster-anhaenger-bemalen-2/
LOCATION:Bundesland: NRW
CATEGORIES:Kurs,Workshop
ATTACH;FMTTYPE=image/jpeg:https://susannes-kreativzeit.de/wp-content/uploads/2025/02/Ostern25.jpg
END:VEVENT
BEGIN:VEVENT
DTSTART;TZID=Europe/Berlin:20250315T153000
DTEND;TZID=Europe/Berlin:20250315T180000
DTSTAMP:20260423T232230
CREATED:20250115T143015Z
LAST-MODIFIED:20250115T205137Z
UID:2866-1742052600-1742061600@susannes-kreativzeit.de
SUMMARY:INTUITIVES MALEN – malen nach gefühl meets ernährung mit gefühl
DESCRIPTION:15.03.2025 15.30 Uhr bis 18:00 Uhr\nAktionspreis 55 EUR inkl. Brainfoodsnacks \nAnmeldung: info@susannes-kreativzeit.de \nVitabula Praxis Für Ernährungsberatung\nDünnwalder Mauspfad 341\n51069 Köln
URL:https://susannes-kreativzeit.de/veranstaltung/intuitives-malen-malen-nach-gefuehl-meets-ernaehrung-mit-gefuehl/
LOCATION:Vitabula Praxis für Ernährungsberatung\, Dünnwalder Mauspfad 341\, Köln\, NRW\, 51069\, Germany
CATEGORIES:Kurs
ATTACH;FMTTYPE=image/jpeg:https://susannes-kreativzeit.de/wp-content/uploads/2025/01/malen-nach-gefuehl.jpg
END:VEVENT
BEGIN:VEVENT
DTSTART;TZID=Europe/Berlin:20250324T153000
DTEND;TZID=Europe/Berlin:20250324T161500
DTSTAMP:20260423T232230
CREATED:20250314T201116Z
LAST-MODIFIED:20250314T201947Z
UID:2927-1742830200-1742832900@susannes-kreativzeit.de
SUMMARY:Mini & Me Osterbasteln
DESCRIPTION:für Kinder von 2 – 4 Jahren (mit je einer Begleitperson) \n24.03.25 15:30 – 16:15 Uhr \noder \n10.04.25 16:00 – 16:45 Uhr \nPreis: 15€ (inkl.Materialien) \nAnmeldung: info@susannes-kreativzeit.de \nOrt: Schildgen Bergisch Gladbach\n(Adresse bei Anmeldung)
URL:https://susannes-kreativzeit.de/veranstaltung/mini-me-osterbasteln/
LOCATION:Susannes Kreativzeit\, Schildgen\, Bergisch Gladbach\, Bundesland: NRW\, 51467\, Germany
CATEGORIES:Kurs,Workshop
ATTACH;FMTTYPE=image/jpeg:https://susannes-kreativzeit.de/wp-content/uploads/2025/03/ostern25-2.jpg
END:VEVENT
END:VCALENDAR