BEGIN:VCALENDAR
VERSION:2.0
PRODID:-//susannes-kreativzeit.de - ECPv6.15.20//NONSGML v1.0//EN
CALSCALE:GREGORIAN
METHOD:PUBLISH
X-WR-CALNAME:susannes-kreativzeit.de
X-ORIGINAL-URL:https://susannes-kreativzeit.de
X-WR-CALDESC:Veranstaltungen für susannes-kreativzeit.de
REFRESH-INTERVAL;VALUE=DURATION:PT1H
X-Robots-Tag:noindex
X-PUBLISHED-TTL:PT1H
BEGIN:VTIMEZONE
TZID:Europe/Berlin
BEGIN:DAYLIGHT
TZOFFSETFROM:+0100
TZOFFSETTO:+0200
TZNAME:CEST
DTSTART:20240331T010000
END:DAYLIGHT
BEGIN:STANDARD
TZOFFSETFROM:+0200
TZOFFSETTO:+0100
TZNAME:CET
DTSTART:20241027T010000
END:STANDARD
BEGIN:DAYLIGHT
TZOFFSETFROM:+0100
TZOFFSETTO:+0200
TZNAME:CEST
DTSTART:20250330T010000
END:DAYLIGHT
BEGIN:STANDARD
TZOFFSETFROM:+0200
TZOFFSETTO:+0100
TZNAME:CET
DTSTART:20251026T010000
END:STANDARD
BEGIN:DAYLIGHT
TZOFFSETFROM:+0100
TZOFFSETTO:+0200
TZNAME:CEST
DTSTART:20260329T010000
END:DAYLIGHT
BEGIN:STANDARD
TZOFFSETFROM:+0200
TZOFFSETTO:+0100
TZNAME:CET
DTSTART:20261025T010000
END:STANDARD
BEGIN:DAYLIGHT
TZOFFSETFROM:+0100
TZOFFSETTO:+0200
TZNAME:CEST
DTSTART:20270328T010000
END:DAYLIGHT
BEGIN:STANDARD
TZOFFSETFROM:+0200
TZOFFSETTO:+0100
TZNAME:CET
DTSTART:20271031T010000
END:STANDARD
END:VTIMEZONE
BEGIN:VEVENT
DTSTART;TZID=Europe/Berlin:20260331T160000
DTEND;TZID=Europe/Berlin:20260331T173000
DTSTAMP:20260419T155757
CREATED:20260306T083319Z
LAST-MODIFIED:20260306T083326Z
UID:3211-1774972800-1774978200@susannes-kreativzeit.de
SUMMARY:Osterbasteln
DESCRIPTION:Für Kinder von 5 -11 Jahren \nWann:\n31.03.26 16:00 – 17:30 Uhr\n25 € (inkl. Materialien) \nAnmeldung erforderlich!\nAnmeldung / Kontakt: info@susannes-kreativzeit.de \nOrt: Schildgen Bergisch Gladbach\n(Adresse bei Anmeldung)
URL:https://susannes-kreativzeit.de/veranstaltung/osterbasteln/
LOCATION:Susannes Kreativzeit\, Schildgen\, Bergisch Gladbach\, Bundesland: NRW\, 51467\, Germany
CATEGORIES:Kurs,Workshop
ATTACH;FMTTYPE=image/jpeg:https://susannes-kreativzeit.de/wp-content/uploads/2026/03/osterbasteln26.jpg
END:VEVENT
BEGIN:VEVENT
DTSTART;TZID=Europe/Berlin:20260323T160000
DTEND;TZID=Europe/Berlin:20260323T170000
DTSTAMP:20260419T155757
CREATED:20260306T083113Z
LAST-MODIFIED:20260306T083123Z
UID:3209-1774281600-1774285200@susannes-kreativzeit.de
SUMMARY:Mini & Me Osterbasteln
DESCRIPTION:Für Kinder von 2 – 4 Jahren (mit je einer Begleitperson) \nWann:\n23.03.26 16:00 – 17:00 Uhr\n18€ (inkl. Materialien) \nAnmeldung erforderlich!\nAnmeldung / Kontakt: info@susannes-kreativzeit.de \nOrt: Schildgen Bergisch Gladbach\n(Adresse bei Anmeldung)
URL:https://susannes-kreativzeit.de/veranstaltung/mini-me-osterbasteln-4/
LOCATION:Susannes Kreativzeit\, Schildgen\, Bergisch Gladbach\, Bundesland: NRW\, 51467\, Germany
CATEGORIES:Kurs,Workshop
ATTACH;FMTTYPE=image/jpeg:https://susannes-kreativzeit.de/wp-content/uploads/2026/03/mini-osterbasteln26.jpg
END:VEVENT
BEGIN:VEVENT
DTSTART;TZID=Europe/Berlin:20260317T160000
DTEND;TZID=Europe/Berlin:20260317T173000
DTSTAMP:20260419T155757
CREATED:20260306T083408Z
LAST-MODIFIED:20260306T083417Z
UID:3215-1773763200-1773768600@susannes-kreativzeit.de
SUMMARY:Osterbasteln
DESCRIPTION:Für Kinder von 5 -11 Jahren \nWann:\n17.03.26 16:00 – 17:30 Uhr\n25 € (inkl. Materialien) \nAnmeldung erforderlich!\nAnmeldung / Kontakt: info@susannes-kreativzeit.de \nOrt: Schildgen Bergisch Gladbach\n(Adresse bei Anmeldung)
URL:https://susannes-kreativzeit.de/veranstaltung/osterbasteln-2/
LOCATION:Susannes Kreativzeit\, Schildgen\, Bergisch Gladbach\, Bundesland: NRW\, 51467\, Germany
CATEGORIES:Kurs,Workshop
ATTACH;FMTTYPE=image/jpeg:https://susannes-kreativzeit.de/wp-content/uploads/2026/03/osterbasteln26.jpg
END:VEVENT
BEGIN:VEVENT
DTSTART;TZID=Europe/Berlin:20260309T160000
DTEND;TZID=Europe/Berlin:20260309T170000
DTSTAMP:20260419T155757
CREATED:20260306T083039Z
LAST-MODIFIED:20260306T083039Z
UID:3205-1773072000-1773075600@susannes-kreativzeit.de
SUMMARY:Mini & Me Osterbasteln
DESCRIPTION:Für Kinder von 2 – 4 Jahren (mit je einer Begleitperson) \nWann:\n09.03.26 16:00 – 17:00 Uhr\n18€ (inkl. Materialien) \nAnmeldung erforderlich!\nAnmeldung / Kontakt: info@susannes-kreativzeit.de \nOrt: Schildgen Bergisch Gladbach\n(Adresse bei Anmeldung)
URL:https://susannes-kreativzeit.de/veranstaltung/mini-me-osterbasteln-3/
LOCATION:Susannes Kreativzeit\, Schildgen\, Bergisch Gladbach\, Bundesland: NRW\, 51467\, Germany
CATEGORIES:Kurs,Workshop
ATTACH;FMTTYPE=image/jpeg:https://susannes-kreativzeit.de/wp-content/uploads/2026/03/mini-osterbasteln26.jpg
END:VEVENT
BEGIN:VEVENT
DTSTART;TZID=Europe/Berlin:20260119T160000
DTEND;TZID=Europe/Berlin:20260119T164500
DTSTAMP:20260419T155757
CREATED:20260102T110322Z
LAST-MODIFIED:20260102T110322Z
UID:3118-1768838400-1768841100@susannes-kreativzeit.de
SUMMARY:Mini & Me Happy New Year!
DESCRIPTION:Für Kinder von 2 – 4 Jahren (mit Begleitperson) \nGemeinsam starten wir kreativ ins neue Jahr und basteln tolle Projekte passend zum Jahresbeginn! \nWann:\n19.01.26 16:00 – 16:45 Uhr\n15€ (inkl. Materialien) \nAnmeldung erforderlich!\nAnmeldung / Kontakt: info@susannes-kreativzeit.de \nOrt: Schildgen Bergisch Gladbach\n(Adresse bei Anmeldung)
URL:https://susannes-kreativzeit.de/veranstaltung/mini-me-happy-new-year/
LOCATION:Susannes Kreativzeit\, Schildgen\, Bergisch Gladbach\, Bundesland: NRW\, 51467\, Germany
CATEGORIES:Kurs,Workshop
ATTACH;FMTTYPE=image/jpeg:https://susannes-kreativzeit.de/wp-content/uploads/2026/01/newyear2026.jpg
END:VEVENT
BEGIN:VEVENT
DTSTART;TZID=Europe/Berlin:20260115T153000
DTEND;TZID=Europe/Berlin:20260115T173000
DTSTAMP:20260419T155757
CREATED:20251214T111829Z
LAST-MODIFIED:20251214T112106Z
UID:3108-1768491000-1768498200@susannes-kreativzeit.de
SUMMARY:Kreativ-Workshop Mini-Glücks Garten 2026
DESCRIPTION:Wie wäre es mit deinem eigenen Glücksgarten für das Jahr 2026?\nSei kreativ und bastel mit! \nFür Kinder ab 7 Jahren! \nWann:\n15.01.26 von 15:30 – 17:30 Uhr \nKosten: 29 € (inklusive Materialien mit Glücksschwein ) \nAnmeldung erforderlich!\nAnmeldung / Kontakt: info@susannes-kreativzeit.de \nOrt: Schildgen Bergisch Gladbach\n(Adresse bei Anmeldung)
URL:https://susannes-kreativzeit.de/veranstaltung/kreativ-workshop-mini-gluecks-garten-2026-2/
LOCATION:Susannes Kreativzeit\, Schildgen\, Bergisch Gladbach\, Bundesland: NRW\, 51467\, Germany
CATEGORIES:Kurs,Workshop
ATTACH;FMTTYPE=image/jpeg:https://susannes-kreativzeit.de/wp-content/uploads/2025/12/kreativworkshop26.jpg
END:VEVENT
BEGIN:VEVENT
DTSTART;TZID=Europe/Berlin:20260108T153000
DTEND;TZID=Europe/Berlin:20260108T173000
DTSTAMP:20260419T155757
CREATED:20251214T111712Z
LAST-MODIFIED:20251214T112143Z
UID:3104-1767886200-1767893400@susannes-kreativzeit.de
SUMMARY:Kreativ-Workshop Mini-Glücks Garten 2026
DESCRIPTION:Wie wäre es mit deinem eigenen Glücksgarten für das Jahr 2026?\nSei kreativ und bastel mit! \nFür Kinder ab 7 Jahren! \nWann:\n08.01.26 von 15:30 – 17:30 Uhr \nKosten: 29 € (inklusive Materialien mit Glücksschwein ) \nAnmeldung erforderlich!\nAnmeldung / Kontakt: info@susannes-kreativzeit.de \nOrt: Schildgen Bergisch Gladbach\n(Adresse bei Anmeldung)
URL:https://susannes-kreativzeit.de/veranstaltung/kreativ-workshop-mini-gluecks-garten-2026/
LOCATION:Susannes Kreativzeit\, Schildgen\, Bergisch Gladbach\, Bundesland: NRW\, 51467\, Germany
CATEGORIES:Kurs,Workshop
ATTACH;FMTTYPE=image/jpeg:https://susannes-kreativzeit.de/wp-content/uploads/2025/12/kreativworkshop26.jpg
END:VEVENT
BEGIN:VEVENT
DTSTART;TZID=Europe/Berlin:20251216T160000
DTEND;TZID=Europe/Berlin:20251216T173000
DTSTAMP:20260419T155757
CREATED:20251031T212233Z
LAST-MODIFIED:20251031T212233Z
UID:3095-1765900800-1765906200@susannes-kreativzeit.de
SUMMARY:WEIHNACHTS-BASTELN Für Kinder von 5 - 11 Jahren
DESCRIPTION:In einer Kleingruppe basteln wir gemeinsam wunderschöne Weihnachtsdekorationen und kleine Geschenke – mit viel Glitzer und Fantasie!\nDie Kinder können ihrer Kreativität freien Lauf lassen und stolz ihre eigenen Kunstwerke mit nach Hause nehmen. Ein festlicher Kreativspaß\, der die Vorfreude auf Weihnachten noch größer macht! \nKosten: 22€ \n16.12.25 16:00 – 17:30 Uhr \nAnmeldung erforderlich!\nAnmeldung / Kontakt: info@susannes-kreativzeit.de \nOrt: Schildgen Bergisch Gladbach\n(Adresse bei Anmeldung)
URL:https://susannes-kreativzeit.de/veranstaltung/weihnachts-basteln-fuer-kinder-von-5-11-jahren-2/
LOCATION:Susannes Kreativzeit\, Schildgen\, Bergisch Gladbach\, Bundesland: NRW\, 51467\, Germany
CATEGORIES:Kurs,Workshop
ATTACH;FMTTYPE=image/jpeg:https://susannes-kreativzeit.de/wp-content/uploads/2025/10/weihnachtsbasteln25-2.jpg
END:VEVENT
BEGIN:VEVENT
DTSTART;TZID=Europe/Berlin:20251215T153000
DTEND;TZID=Europe/Berlin:20251215T163000
DTSTAMP:20260419T155757
CREATED:20251031T210114Z
LAST-MODIFIED:20251031T210114Z
UID:3079-1765812600-1765816200@susannes-kreativzeit.de
SUMMARY:MINI & ME Weihnachtsbasteln
DESCRIPTION:FUR KINDER MIT EINER BEZUGSPERSON 2 – 4 JAHRE \nMINI & ME BASTEL-FUN \n15.12.25 von 15:30-16:30 Uhr \nKosten: 18 € (inkl. Materialien) \n  \nAnmeldung erforderlich!\nAnmeldung / Kontakt: info@susannes-kreativzeit.de \nOrt: Schildgen Bergisch Gladbach\n(Adresse bei Anmeldung)
URL:https://susannes-kreativzeit.de/veranstaltung/mini-me-weihnachtsbasteln-2/
LOCATION:Susannes Kreativzeit\, Schildgen\, Bergisch Gladbach\, Bundesland: NRW\, 51467\, Germany
CATEGORIES:Kurs,Workshop
ATTACH;FMTTYPE=image/jpeg:https://susannes-kreativzeit.de/wp-content/uploads/2025/10/weihnachtsbasteln25.jpg
END:VEVENT
BEGIN:VEVENT
DTSTART;TZID=Europe/Berlin:20251208T153000
DTEND;TZID=Europe/Berlin:20251208T170000
DTSTAMP:20260419T155757
CREATED:20251031T212108Z
LAST-MODIFIED:20251031T212108Z
UID:3091-1765207800-1765213200@susannes-kreativzeit.de
SUMMARY:WEIHNACHTS-BASTELN Für Kinder von 5 - 11 Jahren
DESCRIPTION:In einer Kleingruppe basteln wir gemeinsam wunderschöne Weihnachtsdekorationen und kleine Geschenke – mit viel Glitzer und Fantasie!\nDie Kinder können ihrer Kreativität freien Lauf lassen und stolz ihre eigenen Kunstwerke mit nach Hause nehmen. Ein festlicher Kreativspaß\, der die Vorfreude auf Weihnachten noch größer macht! \nKosten: 22€ \n8.12.25 15:30 – 17:00 Uhr \nAnmeldung erforderlich!\nAnmeldung / Kontakt: info@susannes-kreativzeit.de \nOrt: Schildgen Bergisch Gladbach\n(Adresse bei Anmeldung)
URL:https://susannes-kreativzeit.de/veranstaltung/weihnachts-basteln-fuer-kinder-von-5-11-jahren/
LOCATION:Susannes Kreativzeit\, Schildgen\, Bergisch Gladbach\, Bundesland: NRW\, 51467\, Germany
CATEGORIES:Kurs,Workshop
ATTACH;FMTTYPE=image/jpeg:https://susannes-kreativzeit.de/wp-content/uploads/2025/10/weihnachtsbasteln25-2.jpg
END:VEVENT
BEGIN:VEVENT
DTSTART;TZID=Europe/Berlin:20251124T153000
DTEND;TZID=Europe/Berlin:20251124T163000
DTSTAMP:20260419T155757
CREATED:20251031T205938Z
LAST-MODIFIED:20251031T205938Z
UID:3074-1763998200-1764001800@susannes-kreativzeit.de
SUMMARY:MINI & ME Weihnachtsbasteln
DESCRIPTION:FUR KINDER MIT EINER BEZUGSPERSON 2 – 4 JAHRE \nMINI & ME BASTEL-FUN \n24.11.25 von 15:30 – 16:30 Uhr \nKosten: 18 € (inkl. Materialien) \n  \nAnmeldung erforderlich!\nAnmeldung / Kontakt: info@susannes-kreativzeit.de \nOrt: Schildgen Bergisch Gladbach\n(Adresse bei Anmeldung)
URL:https://susannes-kreativzeit.de/veranstaltung/mini-me-weihnachtsbasteln/
LOCATION:Susannes Kreativzeit\, Schildgen\, Bergisch Gladbach\, Bundesland: NRW\, 51467\, Germany
CATEGORIES:Kurs,Workshop
ATTACH;FMTTYPE=image/jpeg:https://susannes-kreativzeit.de/wp-content/uploads/2025/10/weihnachtsbasteln25.jpg
END:VEVENT
BEGIN:VEVENT
DTSTART;TZID=Europe/Berlin:20251027T160000
DTEND;TZID=Europe/Berlin:20251027T173000
DTSTAMP:20260419T155757
CREATED:20250920T190332Z
LAST-MODIFIED:20250920T190332Z
UID:3053-1761580800-1761586200@susannes-kreativzeit.de
SUMMARY:HALLOWEEN-BASTELN
DESCRIPTION:FÜR KINDER VON 5 – 10 JAHREN \nHALLOWEEN-BASTELN \n27.10.25 16:00 – 17:30 UHR \n22 € PRO TERMIN (MATERIAL IM PREIS ENTHALTEN) \nAnmeldung / Kontakt: info@susannes-kreativzeit.de \nOrt: Schildgen Bergisch Gladbach\n(Adresse bei Anmeldung)
URL:https://susannes-kreativzeit.de/veranstaltung/halloween-basteln-2/
LOCATION:Susannes Kreativzeit\, Schildgen\, Bergisch Gladbach\, Bundesland: NRW\, 51467\, Germany
CATEGORIES:Kurs,Workshop
ATTACH;FMTTYPE=image/jpeg:https://susannes-kreativzeit.de/wp-content/uploads/2025/09/halloween25.jpg
END:VEVENT
BEGIN:VEVENT
DTSTART;TZID=Europe/Berlin:20251024T153000
DTEND;TZID=Europe/Berlin:20251024T161500
DTSTAMP:20260419T155757
CREATED:20250920T193031Z
LAST-MODIFIED:20250920T193333Z
UID:3064-1761319800-1761322500@susannes-kreativzeit.de
SUMMARY:MINI & ME BASTEL-FUN
DESCRIPTION:FUR KINDER MIT EINER BEZUGSPERSON 2 – 4 JAHRE \nMINI & ME BASTEL-FUN \n24.10.25 15:30 – 16:15 \nPro Termin: 15 € (Material im Preis enthalten) \n  \nAnmeldung / Kontakt: info@susannes-kreativzeit.de \nOrt: Schildgen Bergisch Gladbach\n(Adresse bei Anmeldung)
URL:https://susannes-kreativzeit.de/veranstaltung/mini-me-bastel-fun-2/
LOCATION:Susannes Kreativzeit\, Schildgen\, Bergisch Gladbach\, Bundesland: NRW\, 51467\, Germany
CATEGORIES:Kurs,Workshop
ATTACH;FMTTYPE=image/jpeg:https://susannes-kreativzeit.de/wp-content/uploads/2025/09/bastelfun25.jpg
END:VEVENT
BEGIN:VEVENT
DTSTART;TZID=Europe/Berlin:20251023T153000
DTEND;TZID=Europe/Berlin:20251023T161500
DTSTAMP:20260419T155757
CREATED:20250920T192351Z
LAST-MODIFIED:20250920T192848Z
UID:3057-1761233400-1761236100@susannes-kreativzeit.de
SUMMARY:MINI & ME BASTEL-FUN
DESCRIPTION:FUR KINDER MIT EINER BEZUGSPERSON 2 – 4 JAHRE \nMINI & ME BASTEL-FUN \n23.10.25 15:30 – 16:15 \nPro Termin: 15 € (Material im Preis enthalten) \n  \nAnmeldung / Kontakt: info@susannes-kreativzeit.de \nOrt: Schildgen Bergisch Gladbach\n(Adresse bei Anmeldung)
URL:https://susannes-kreativzeit.de/veranstaltung/mini-me-bastel-fun/
LOCATION:Susannes Kreativzeit\, Schildgen\, Bergisch Gladbach\, Bundesland: NRW\, 51467\, Germany
CATEGORIES:Kurs,Workshop
ATTACH;FMTTYPE=image/jpeg:https://susannes-kreativzeit.de/wp-content/uploads/2025/09/bastelfun25.jpg
END:VEVENT
BEGIN:VEVENT
DTSTART;TZID=Europe/Berlin:20251020T160000
DTEND;TZID=Europe/Berlin:20251020T173000
DTSTAMP:20260419T155757
CREATED:20250920T190030Z
LAST-MODIFIED:20250920T190222Z
UID:3049-1760976000-1760981400@susannes-kreativzeit.de
SUMMARY:HALLOWEEN-BASTELN
DESCRIPTION:FÜR KINDER VON 5 – 10 JAHREN \nHALLOWEEN-BASTELN \n20.10.25 16:00 – 17:30 UHR \n22 € PRO TERMIN (MATERIAL IM PREIS ENTHALTEN) \nAnmeldung / Kontakt: info@susannes-kreativzeit.de \nOrt: Schildgen Bergisch Gladbach\n(Adresse bei Anmeldung)
URL:https://susannes-kreativzeit.de/veranstaltung/halloween-basteln/
LOCATION:Susannes Kreativzeit\, Schildgen\, Bergisch Gladbach\, Bundesland: NRW\, 51467\, Germany
CATEGORIES:Kurs,Workshop
ATTACH;FMTTYPE=image/jpeg:https://susannes-kreativzeit.de/wp-content/uploads/2025/09/halloween25.jpg
END:VEVENT
BEGIN:VEVENT
DTSTART;TZID=Europe/Berlin:20251016T160000
DTEND;TZID=Europe/Berlin:20251016T173000
DTSTAMP:20260419T155757
CREATED:20250920T184941Z
LAST-MODIFIED:20250920T185613Z
UID:3046-1760630400-1760635800@susannes-kreativzeit.de
SUMMARY:WIR MALEN UND BASTELN ZUM THEMA HERBST
DESCRIPTION:FÜR KINDER VON 5 – 10 JAHRE \nWIR MALEN UND BASTELN ZUM THEMA HERBST \nTERMINE:\n16.10.25 16:00 – 17:30 UHR \n22 € PRO TERMIN (MATERIAL IM PREIS ENTHALTEN) \nAnmeldung / Kontakt: info@susannes-kreativzeit.de \nOrt: Schildgen Bergisch Gladbach\n(Adresse bei Anmeldung)
URL:https://susannes-kreativzeit.de/veranstaltung/wir-malen-und-basteln-zum-thema-herbst-2/
LOCATION:Susannes Kreativzeit\, Schildgen\, Bergisch Gladbach\, Bundesland: NRW\, 51467\, Germany
CATEGORIES:Kurs,Workshop
ATTACH;FMTTYPE=image/jpeg:https://susannes-kreativzeit.de/wp-content/uploads/2025/09/halloween25.jpg
END:VEVENT
BEGIN:VEVENT
DTSTART;TZID=Europe/Berlin:20251010T153000
DTEND;TZID=Europe/Berlin:20251010T161500
DTSTAMP:20260419T155757
CREATED:20250917T191508Z
LAST-MODIFIED:20250917T192128Z
UID:3017-1760110200-1760112900@susannes-kreativzeit.de
SUMMARY:MINI & ME - Herbst Workshop
DESCRIPTION:Ab 2 Jahren – 4 Jahre mit einer Bezugsperson \nWann:\n10.10.25 15:30 -16:15 Uhr \nKosten:\n15 € (inkl. Material) \nAnmeldung / Kontakt: info@susannes-kreativzeit.de \nOrt: Schildgen Bergisch Gladbach\n(Adresse bei Anmeldung)
URL:https://susannes-kreativzeit.de/veranstaltung/mini-me-herbst-workshop/
LOCATION:Susannes Kreativzeit\, Schildgen\, Bergisch Gladbach\, Bundesland: NRW\, 51467\, Germany
CATEGORIES:Kurs,Workshop
ATTACH;FMTTYPE=image/jpeg:https://susannes-kreativzeit.de/wp-content/uploads/2025/09/herbstworkshop.jpg
END:VEVENT
BEGIN:VEVENT
DTSTART;TZID=Europe/Berlin:20251009T161500
DTEND;TZID=Europe/Berlin:20251009T171500
DTSTAMP:20260419T155757
CREATED:20250917T121052Z
LAST-MODIFIED:20250917T191724Z
UID:3008-1760026500-1760030100@susannes-kreativzeit.de
SUMMARY:MINI & ME - WIR BASTELN EINEN TRAUMFÄNGER!
DESCRIPTION:MINI & ME – AB 4 JAHRE MIT EINER BEZUGSPERSON \nSEI DABEI !\nGemeinsam bastelst du mit deiner Bezugsperson einen Traumfänger zum Thema Weltraum oder Einhorn. \n09.10.25 16:15 -17:15 Uhr \nKOSTEN: 16€ (PRO TERMIN\, INKL. MATERIAL) \nAnmeldung / Kontakt: info@susannes-kreativzeit.de \nOrt: Schildgen Bergisch Gladbach\n(Adresse bei Anmeldung)
URL:https://susannes-kreativzeit.de/veranstaltung/mini-me-wir-basteln-einen-traumfaenger/
LOCATION:Susannes Kreativzeit\, Schildgen\, Bergisch Gladbach\, Bundesland: NRW\, 51467\, Germany
CATEGORIES:Kurs,Workshop
ATTACH;FMTTYPE=image/jpeg:https://susannes-kreativzeit.de/wp-content/uploads/2025/09/traumfaenger.jpg
END:VEVENT
BEGIN:VEVENT
DTSTART;TZID=Europe/Berlin:20251006T161500
DTEND;TZID=Europe/Berlin:20251006T171500
DTSTAMP:20260419T155757
CREATED:20250717T204435Z
LAST-MODIFIED:20250917T191759Z
UID:2991-1759767300-1759770900@susannes-kreativzeit.de
SUMMARY:MINI & ME - WIR BASTELN EINEN TRAUMFÄNGER!
DESCRIPTION:MINI & ME – AB 4 JAHRE MIT EINER BEZUGSPERSON \nSEI DABEI !\nGemeinsam bastelst du mit deiner Bezugsperson einen Traumfänger zum Thema Weltraum oder Einhorn. \n06.10.25 16:15 -17:15 Uhr \nKOSTEN: 16€ (PRO TERMIN\, INKL. MATERIAL) \nAnmeldung / Kontakt: info@susannes-kreativzeit.de \nOrt: Schildgen Bergisch Gladbach\n(Adresse bei Anmeldung)
URL:https://susannes-kreativzeit.de/veranstaltung/mini-me-wir-basteln-einen-traumfaenger1/
LOCATION:Susannes Kreativzeit\, Schildgen\, Bergisch Gladbach\, Bundesland: NRW\, 51467\, Germany
CATEGORIES:Kurs,Workshop
ATTACH;FMTTYPE=image/jpeg:https://susannes-kreativzeit.de/wp-content/uploads/2025/09/traumfaenger.jpg
END:VEVENT
BEGIN:VEVENT
DTSTART;TZID=Europe/Berlin:20251002T160000
DTEND;TZID=Europe/Berlin:20251002T173000
DTSTAMP:20260419T155757
CREATED:20250920T184528Z
LAST-MODIFIED:20250920T185005Z
UID:3042-1759420800-1759426200@susannes-kreativzeit.de
SUMMARY:WIR MALEN UND BASTELN ZUM THEMA HERBST
DESCRIPTION:FÜR KINDER VON 5 – 10 JAHRE \nWIR MALEN UND BASTELN ZUM THEMA HERBST \nTERMINE:\n02.10.25 16:00 – 17:30 UHR \n22 € PRO TERMIN (MATERIAL IM PREIS ENTHALTEN) \nAnmeldung / Kontakt: info@susannes-kreativzeit.de \nOrt: Schildgen Bergisch Gladbach\n(Adresse bei Anmeldung)
URL:https://susannes-kreativzeit.de/veranstaltung/wir-malen-und-basteln-zum-thema-herbst/
LOCATION:Susannes Kreativzeit\, Schildgen\, Bergisch Gladbach\, Bundesland: NRW\, 51467\, Germany
CATEGORIES:Kurs,Workshop
ATTACH;FMTTYPE=image/jpeg:https://susannes-kreativzeit.de/wp-content/uploads/2025/09/halloween25.jpg
END:VEVENT
BEGIN:VEVENT
DTSTART;TZID=Europe/Berlin:20250930T161500
DTEND;TZID=Europe/Berlin:20250930T170000
DTSTAMP:20260419T155757
CREATED:20250917T192015Z
LAST-MODIFIED:20250917T192015Z
UID:3021-1759248900-1759251600@susannes-kreativzeit.de
SUMMARY:MINI & ME - Herbst Workshop
DESCRIPTION:Ab 2 Jahren – 4 Jahre mit einer Bezugsperson \nWann:\n30.09.25 16:15 -17:00 Uhr \nKosten:\n15 € (inkl. Material) \nAnmeldung / Kontakt: info@susannes-kreativzeit.de \nOrt: Schildgen Bergisch Gladbach\n(Adresse bei Anmeldung)
URL:https://susannes-kreativzeit.de/veranstaltung/mini-me-herbst-workshop-3/
LOCATION:Susannes Kreativzeit\, Schildgen\, Bergisch Gladbach\, Bundesland: NRW\, 51467\, Germany
CATEGORIES:Kurs,Workshop
ATTACH;FMTTYPE=image/jpeg:https://susannes-kreativzeit.de/wp-content/uploads/2025/09/herbstworkshop.jpg
END:VEVENT
BEGIN:VEVENT
DTSTART;TZID=Europe/Berlin:20250929T161500
DTEND;TZID=Europe/Berlin:20250929T170000
DTSTAMP:20260419T155757
CREATED:20250917T191923Z
LAST-MODIFIED:20250917T191923Z
UID:3022-1759162500-1759165200@susannes-kreativzeit.de
SUMMARY:MINI & ME - Herbst Workshop
DESCRIPTION:Ab 2 Jahren – 4 Jahre mit einer Bezugsperson \nWann:\n29.09.25 16:15 -17:00 Uhr \nKosten:\n15 € (inkl. Material) \nAnmeldung / Kontakt: info@susannes-kreativzeit.de \nOrt: Schildgen Bergisch Gladbach\n(Adresse bei Anmeldung)
URL:https://susannes-kreativzeit.de/veranstaltung/mini-me-herbst-workshop-2/
LOCATION:Susannes Kreativzeit\, Schildgen\, Bergisch Gladbach\, Bundesland: NRW\, 51467\, Germany
CATEGORIES:Kurs,Workshop
ATTACH;FMTTYPE=image/jpeg:https://susannes-kreativzeit.de/wp-content/uploads/2025/09/herbstworkshop.jpg
END:VEVENT
BEGIN:VEVENT
DTSTART;TZID=Europe/Berlin:20250820T103000
DTEND;TZID=Europe/Berlin:20250820T111500
DTSTAMP:20260419T155757
CREATED:20250917T072533Z
LAST-MODIFIED:20250917T072533Z
UID:3004-1755685800-1755688500@susannes-kreativzeit.de
SUMMARY:MINI & ME KREATIV-SUMMER-WORKSHOP
DESCRIPTION:FÜR KINDER AB 2 – 4\,5 JAHREN MIT EINER BEGLEITPERSON \n20.08.25 10:30 – 11:15 \nKOSTEN: 15€ (PRO TERMIN) \nAnmeldung / Kontakt: info@susannes-kreativzeit.de \nOrt: Schildgen Bergisch Gladbach\n(Adresse bei Anmeldung)
URL:https://susannes-kreativzeit.de/veranstaltung/mini-me-kreativ-summer-workshop-5/
LOCATION:Susannes Kreativzeit\, Schildgen\, Bergisch Gladbach\, Bundesland: NRW\, 51467\, Germany
CATEGORIES:Kurs,Workshop
ATTACH;FMTTYPE=image/jpeg:https://susannes-kreativzeit.de/wp-content/uploads/2025/07/malen825.jpg
END:VEVENT
BEGIN:VEVENT
DTSTART;TZID=Europe/Berlin:20250814T160000
DTEND;TZID=Europe/Berlin:20250814T170000
DTSTAMP:20260419T155757
CREATED:20250717T195937Z
LAST-MODIFIED:20250717T195937Z
UID:2970-1755187200-1755190800@susannes-kreativzeit.de
SUMMARY:MAL - UND BASTELFUN FÜR KINDER AB 5 - 11 JAHRE !
DESCRIPTION:Alter: 5 – 11 Jahre \nPRO TERMiN 18€ DAUER 60 MiNUTEN \nTERMIN: \n14.08.25 16:00 UHR \npro Termin 18 €   \nAnmeldung / Kontakt: info@susannes-kreativzeit.de \nOrt: Schildgen Bergisch Gladbach\n(Adresse bei Anmeldung)
URL:https://susannes-kreativzeit.de/veranstaltung/mal-und-bastelfun-fuer-kinder-ab-5-11-jahre-4/
LOCATION:Susannes Kreativzeit\, Schildgen\, Bergisch Gladbach\, Bundesland: NRW\, 51467\, Germany
CATEGORIES:Kurs,Workshop
ATTACH;FMTTYPE=image/jpeg:https://susannes-kreativzeit.de/wp-content/uploads/2025/07/malen725.jpg
END:VEVENT
BEGIN:VEVENT
DTSTART;TZID=Europe/Berlin:20250814T103000
DTEND;TZID=Europe/Berlin:20250814T111500
DTSTAMP:20260419T155757
CREATED:20250717T204334Z
LAST-MODIFIED:20250718T064009Z
UID:2988-1755167400-1755170100@susannes-kreativzeit.de
SUMMARY:MINI & ME KREATIV-SUMMER-WORKSHOP
DESCRIPTION:FÜR KINDER AB 2 – 4\,5 JAHREN MIT EINER BEGLEITPERSON \n14.08.25 10:30 – 11:15 \n20.08.25 10:30 – 11:15 \nKOSTEN: 15€ (PRO TERMIN) \nAnmeldung / Kontakt: info@susannes-kreativzeit.de \nOrt: Schildgen Bergisch Gladbach\n(Adresse bei Anmeldung)
URL:https://susannes-kreativzeit.de/veranstaltung/mini-me-kreativ-summer-workshop-3/
LOCATION:Susannes Kreativzeit\, Schildgen\, Bergisch Gladbach\, Bundesland: NRW\, 51467\, Germany
CATEGORIES:Kurs,Workshop
ATTACH;FMTTYPE=image/jpeg:https://susannes-kreativzeit.de/wp-content/uploads/2025/07/malen825.jpg
END:VEVENT
BEGIN:VEVENT
DTSTART;TZID=Europe/Berlin:20250813T103000
DTEND;TZID=Europe/Berlin:20250813T111500
DTSTAMP:20260419T155757
CREATED:20250717T204238Z
LAST-MODIFIED:20250718T064043Z
UID:2984-1755081000-1755083700@susannes-kreativzeit.de
SUMMARY:MINI & ME KREATIV-SUMMER-WORKSHOP
DESCRIPTION:FÜR KINDER AB 2 – 4\,5 JAHREN MIT EINER BEGLEITPERSON \n13.08.25 10:30 – 11:15 \n14.08.25 10:30 – 11:15 \n20.08.25 10:30 – 11:15 \nKOSTEN: 15€ (PRO TERMIN) \nAnmeldung / Kontakt: info@susannes-kreativzeit.de \nOrt: Schildgen Bergisch Gladbach\n(Adresse bei Anmeldung)
URL:https://susannes-kreativzeit.de/veranstaltung/mini-me-kreativ-summer-workshop-2/
LOCATION:Susannes Kreativzeit\, Schildgen\, Bergisch Gladbach\, Bundesland: NRW\, 51467\, Germany
CATEGORIES:Kurs,Workshop
ATTACH;FMTTYPE=image/jpeg:https://susannes-kreativzeit.de/wp-content/uploads/2025/07/malen825.jpg
END:VEVENT
BEGIN:VEVENT
DTSTART;TZID=Europe/Berlin:20250811T160000
DTEND;TZID=Europe/Berlin:20250811T164500
DTSTAMP:20260419T155757
CREATED:20250717T203831Z
LAST-MODIFIED:20250718T064128Z
UID:2978-1754928000-1754930700@susannes-kreativzeit.de
SUMMARY:MINI & ME KREATIV-SUMMER-WORKSHOP
DESCRIPTION:FÜR KINDER AB 2 – 4\,5 JAHREN MIT EINER BEGLEITPERSON \n11.08.25 16:00 – 16:45 \n13.08.25 10:30 – 11:15 \n14.08.25 10:30 – 11:15 \n20.08.25 10:30 – 11:15 \nKOSTEN: 15€ (PRO TERMIN) \nAnmeldung / Kontakt: info@susannes-kreativzeit.de \nOrt: Schildgen Bergisch Gladbach\n(Adresse bei Anmeldung)
URL:https://susannes-kreativzeit.de/veranstaltung/mini-me-kreativ-summer-workshop/
LOCATION:Susannes Kreativzeit\, Schildgen\, Bergisch Gladbach\, Bundesland: NRW\, 51467\, Germany
CATEGORIES:Kurs,Workshop
ATTACH;FMTTYPE=image/jpeg:https://susannes-kreativzeit.de/wp-content/uploads/2025/07/malen825.jpg
END:VEVENT
BEGIN:VEVENT
DTSTART;TZID=Europe/Berlin:20250724T160000
DTEND;TZID=Europe/Berlin:20250724T170000
DTSTAMP:20260419T155757
CREATED:20250717T195814Z
LAST-MODIFIED:20250717T195814Z
UID:2967-1753372800-1753376400@susannes-kreativzeit.de
SUMMARY:MAL - UND BASTELFUN FÜR KINDER AB 5 - 11 JAHRE !
DESCRIPTION:Alter: 5 – 11 Jahre \nPRO TERMiN 18€ DAUER 60 MiNUTEN \nTERMINE: \n24.07.25 16:00 UHR \n14.08.25 16:00 UHR \npro Termin 18 €   \nAnmeldung / Kontakt: info@susannes-kreativzeit.de \nOrt: Schildgen Bergisch Gladbach\n(Adresse bei Anmeldung)
URL:https://susannes-kreativzeit.de/veranstaltung/mal-und-bastelfun-fuer-kinder-ab-5-11-jahre-3/
LOCATION:Susannes Kreativzeit\, Schildgen\, Bergisch Gladbach\, Bundesland: NRW\, 51467\, Germany
CATEGORIES:Kurs,Workshop
ATTACH;FMTTYPE=image/jpeg:https://susannes-kreativzeit.de/wp-content/uploads/2025/07/malen725.jpg
END:VEVENT
BEGIN:VEVENT
DTSTART;TZID=Europe/Berlin:20250722T163000
DTEND;TZID=Europe/Berlin:20250722T173000
DTSTAMP:20260419T155757
CREATED:20250717T195703Z
LAST-MODIFIED:20250717T195703Z
UID:2964-1753201800-1753205400@susannes-kreativzeit.de
SUMMARY:MAL - UND BASTELFUN FÜR KINDER AB 5 - 11 JAHRE !
DESCRIPTION:Alter: 5 – 11 Jahre \nPRO TERMiN 18€ DAUER 60 MiNUTEN \nTERMINE: \n22.07.25 16:30 UHR \n24.07.25 16:00 UHR \n14.08.25 16:00 UHR \npro Termin 18 €   \nAnmeldung / Kontakt: info@susannes-kreativzeit.de \nOrt: Schildgen Bergisch Gladbach\n(Adresse bei Anmeldung)
URL:https://susannes-kreativzeit.de/veranstaltung/mal-und-bastelfun-fuer-kinder-ab-5-11-jahre-2/
LOCATION:Susannes Kreativzeit\, Schildgen\, Bergisch Gladbach\, Bundesland: NRW\, 51467\, Germany
CATEGORIES:Kurs,Workshop
ATTACH;FMTTYPE=image/jpeg:https://susannes-kreativzeit.de/wp-content/uploads/2025/07/malen725.jpg
END:VEVENT
BEGIN:VEVENT
DTSTART;TZID=Europe/Berlin:20250718T160000
DTEND;TZID=Europe/Berlin:20250718T170000
DTSTAMP:20260419T155757
CREATED:20250717T195550Z
LAST-MODIFIED:20250717T195550Z
UID:2960-1752854400-1752858000@susannes-kreativzeit.de
SUMMARY:MAL - UND BASTELFUN FÜR KINDER AB 5 - 11 JAHRE !
DESCRIPTION:Alter: 5 – 11 Jahre \nPRO TERMiN 18€ DAUER 60 MiNUTEN \nTERMINE: \n18.07.25 16:00 UHR \n22.07.25 16:30 UHR \n24.07.25 16:00 UHR \n14.08.25 16:00 UHR \npro Termin 18 €   \nAnmeldung / Kontakt: info@susannes-kreativzeit.de \nOrt: Schildgen Bergisch Gladbach\n(Adresse bei Anmeldung)
URL:https://susannes-kreativzeit.de/veranstaltung/mal-und-bastelfun-fuer-kinder-ab-5-11-jahre/
LOCATION:Susannes Kreativzeit\, Schildgen\, Bergisch Gladbach\, Bundesland: NRW\, 51467\, Germany
CATEGORIES:Kurs,Workshop
ATTACH;FMTTYPE=image/jpeg:https://susannes-kreativzeit.de/wp-content/uploads/2025/07/malen725.jpg
END:VEVENT
END:VCALENDAR