BEGIN:VCALENDAR
VERSION:2.0
PRODID:-//susannes-kreativzeit.de - ECPv6.15.20//NONSGML v1.0//EN
CALSCALE:GREGORIAN
METHOD:PUBLISH
X-ORIGINAL-URL:https://susannes-kreativzeit.de
X-WR-CALDESC:Veranstaltungen für susannes-kreativzeit.de
REFRESH-INTERVAL;VALUE=DURATION:PT1H
X-Robots-Tag:noindex
X-PUBLISHED-TTL:PT1H
BEGIN:VTIMEZONE
TZID:Europe/Berlin
BEGIN:DAYLIGHT
TZOFFSETFROM:+0100
TZOFFSETTO:+0200
TZNAME:CEST
DTSTART:20240331T010000
END:DAYLIGHT
BEGIN:STANDARD
TZOFFSETFROM:+0200
TZOFFSETTO:+0100
TZNAME:CET
DTSTART:20241027T010000
END:STANDARD
BEGIN:DAYLIGHT
TZOFFSETFROM:+0100
TZOFFSETTO:+0200
TZNAME:CEST
DTSTART:20250330T010000
END:DAYLIGHT
BEGIN:STANDARD
TZOFFSETFROM:+0200
TZOFFSETTO:+0100
TZNAME:CET
DTSTART:20251026T010000
END:STANDARD
BEGIN:DAYLIGHT
TZOFFSETFROM:+0100
TZOFFSETTO:+0200
TZNAME:CEST
DTSTART:20260329T010000
END:DAYLIGHT
BEGIN:STANDARD
TZOFFSETFROM:+0200
TZOFFSETTO:+0100
TZNAME:CET
DTSTART:20261025T010000
END:STANDARD
END:VTIMEZONE
BEGIN:VEVENT
DTSTART;TZID=Europe/Berlin:20250324T153000
DTEND;TZID=Europe/Berlin:20250324T161500
DTSTAMP:20260424T005311
CREATED:20250314T201116Z
LAST-MODIFIED:20250314T201947Z
UID:2927-1742830200-1742832900@susannes-kreativzeit.de
SUMMARY:Mini & Me Osterbasteln
DESCRIPTION:für Kinder von 2 – 4 Jahren (mit je einer Begleitperson) \n24.03.25 15:30 – 16:15 Uhr \noder \n10.04.25 16:00 – 16:45 Uhr \nPreis: 15€ (inkl.Materialien) \nAnmeldung: info@susannes-kreativzeit.de \nOrt: Schildgen Bergisch Gladbach\n(Adresse bei Anmeldung)
URL:https://susannes-kreativzeit.de/veranstaltung/mini-me-osterbasteln/
LOCATION:Susannes Kreativzeit\, Schildgen\, Bergisch Gladbach\, Bundesland: NRW\, 51467\, Germany
CATEGORIES:Kurs,Workshop
ATTACH;FMTTYPE=image/jpeg:https://susannes-kreativzeit.de/wp-content/uploads/2025/03/ostern25-2.jpg
END:VEVENT
END:VCALENDAR