BEGIN:VCALENDAR
VERSION:2.0
PRODID:-//susannes-kreativzeit.de - ECPv6.15.20//NONSGML v1.0//EN
CALSCALE:GREGORIAN
METHOD:PUBLISH
X-ORIGINAL-URL:https://susannes-kreativzeit.de
X-WR-CALDESC:Veranstaltungen für susannes-kreativzeit.de
REFRESH-INTERVAL;VALUE=DURATION:PT1H
X-Robots-Tag:noindex
X-PUBLISHED-TTL:PT1H
BEGIN:VTIMEZONE
TZID:Europe/Berlin
BEGIN:DAYLIGHT
TZOFFSETFROM:+0100
TZOFFSETTO:+0200
TZNAME:CEST
DTSTART:20230326T010000
END:DAYLIGHT
BEGIN:STANDARD
TZOFFSETFROM:+0200
TZOFFSETTO:+0100
TZNAME:CET
DTSTART:20231029T010000
END:STANDARD
BEGIN:DAYLIGHT
TZOFFSETFROM:+0100
TZOFFSETTO:+0200
TZNAME:CEST
DTSTART:20240331T010000
END:DAYLIGHT
BEGIN:STANDARD
TZOFFSETFROM:+0200
TZOFFSETTO:+0100
TZNAME:CET
DTSTART:20241027T010000
END:STANDARD
BEGIN:DAYLIGHT
TZOFFSETFROM:+0100
TZOFFSETTO:+0200
TZNAME:CEST
DTSTART:20250330T010000
END:DAYLIGHT
BEGIN:STANDARD
TZOFFSETFROM:+0200
TZOFFSETTO:+0100
TZNAME:CET
DTSTART:20251026T010000
END:STANDARD
END:VTIMEZONE
BEGIN:VEVENT
DTSTART;TZID=Europe/Berlin:20241031T110000
DTEND;TZID=Europe/Berlin:20241219T120000
DTSTAMP:20260425T170141
CREATED:20241003T200532Z
LAST-MODIFIED:20241003T201422Z
UID:2797-1730372400-1734609600@susannes-kreativzeit.de
SUMMARY:Kreativer Mal – und Bastelkurs für Kinder mit einer Begleitperson
DESCRIPTION:Malen ist ein wichtiges Ausdrucksmittel für Kinder und eine bedeutende Grundlage für das spätere Erlern des Schreibens.\nIn diesem Kurs dürfen die Mini-Künstler sich in die Welt der Kreativität hineinwagen und mit Spaß und Freude verschiedene Farben spielerisch kennenlernen und ihre ersten Werke gestalten. Ihr Kind wird erste Experimente\, in Form von Farben mischen\, Erstellen von Schaumbildern\, Umgang verschiedenen Malutensilien und einiges mehr kennenlernen.\nEinige Einheiten werden von mir zum Einstieg mit Kurzgeschichten begleitet.\nDurch die abwechslungsreichen Inhalte werden zusätzlich die verschiedenen Sinneskanäle angesprochen und somit die Wahrnehmung ihres Kindes auf natürliche Weise unterstützt.\nSusanne Cramer (Susannes Kreativzeit)
URL:https://susannes-kreativzeit.de/veranstaltung/bastelkurs/
LOCATION:AWO Opladen\, Berliner Platz 3\, Leverkusen\, NRW\, 51379\, Germany
CATEGORIES:Kurs
ATTACH;FMTTYPE=image/jpeg:https://susannes-kreativzeit.de/wp-content/uploads/2024/10/awo2-1.jpg
END:VEVENT
END:VCALENDAR