BEGIN:VCALENDAR
VERSION:2.0
PRODID:-//susannes-kreativzeit.de - ECPv6.15.20//NONSGML v1.0//EN
CALSCALE:GREGORIAN
METHOD:PUBLISH
X-WR-CALNAME:susannes-kreativzeit.de
X-ORIGINAL-URL:https://susannes-kreativzeit.de
X-WR-CALDESC:Veranstaltungen für susannes-kreativzeit.de
REFRESH-INTERVAL;VALUE=DURATION:PT1H
X-Robots-Tag:noindex
X-PUBLISHED-TTL:PT1H
BEGIN:VTIMEZONE
TZID:Europe/Berlin
BEGIN:DAYLIGHT
TZOFFSETFROM:+0100
TZOFFSETTO:+0200
TZNAME:CEST
DTSTART:20230326T010000
END:DAYLIGHT
BEGIN:STANDARD
TZOFFSETFROM:+0200
TZOFFSETTO:+0100
TZNAME:CET
DTSTART:20231029T010000
END:STANDARD
BEGIN:DAYLIGHT
TZOFFSETFROM:+0100
TZOFFSETTO:+0200
TZNAME:CEST
DTSTART:20240331T010000
END:DAYLIGHT
BEGIN:STANDARD
TZOFFSETFROM:+0200
TZOFFSETTO:+0100
TZNAME:CET
DTSTART:20241027T010000
END:STANDARD
BEGIN:DAYLIGHT
TZOFFSETFROM:+0100
TZOFFSETTO:+0200
TZNAME:CEST
DTSTART:20250330T010000
END:DAYLIGHT
BEGIN:STANDARD
TZOFFSETFROM:+0200
TZOFFSETTO:+0100
TZNAME:CET
DTSTART:20251026T010000
END:STANDARD
END:VTIMEZONE
BEGIN:VEVENT
DTSTART;TZID=Europe/Berlin:20241024T150000
DTEND;TZID=Europe/Berlin:20241024T163000
DTSTAMP:20260425T212647
CREATED:20241003T195840Z
LAST-MODIFIED:20241003T203241Z
UID:2795-1729782000-1729787400@susannes-kreativzeit.de
SUMMARY:Windlichter basteln
DESCRIPTION:Workshop für Kinder: Windlichter basteln !\nSei dabei und gestalte mit mir dein eigenes\, wunderschönes Windlicht!\nWir basteln gemeinsam tolle Windlichter\, die du mit nach Hause nehmen kannst – perfekt für Halloween.\nWann? (Wähle deinen passenden Tag aus)\n15.10.24 von 15:00 Uhr – 16:30 Uhr\n22.10.24 von 15:00 Uhr -16:30 Uhr\n24.10.24 von 15:00 Uhr -16:30 Uhr\nWo? Katterbach / Schildgen\nWer kann mitmachen? Kinder von 7 – 11 Jahren \nKosten: 22€ (alle Materialien werden gestellt) \nAnmeldung: info@susannes-kreativzeit.de
URL:https://susannes-kreativzeit.de/veranstaltung/windlichter-basteln-3/
LOCATION:Susannes Kreativzeit\, Schildgen\, Bergisch Gladbach\, Bundesland: NRW\, 51467\, Germany
CATEGORIES:Workshop
ATTACH;FMTTYPE=image/jpeg:https://susannes-kreativzeit.de/wp-content/uploads/2024/10/windlicht.jpg
END:VEVENT
END:VCALENDAR