BEGIN:VCALENDAR
VERSION:2.0
PRODID:-//susannes-kreativzeit.de - ECPv6.15.20//NONSGML v1.0//EN
CALSCALE:GREGORIAN
METHOD:PUBLISH
X-WR-CALNAME:susannes-kreativzeit.de
X-ORIGINAL-URL:https://susannes-kreativzeit.de
X-WR-CALDESC:Veranstaltungen für susannes-kreativzeit.de
REFRESH-INTERVAL;VALUE=DURATION:PT1H
X-Robots-Tag:noindex
X-PUBLISHED-TTL:PT1H
BEGIN:VTIMEZONE
TZID:Europe/Berlin
BEGIN:DAYLIGHT
TZOFFSETFROM:+0100
TZOFFSETTO:+0200
TZNAME:CEST
DTSTART:20230326T010000
END:DAYLIGHT
BEGIN:STANDARD
TZOFFSETFROM:+0200
TZOFFSETTO:+0100
TZNAME:CET
DTSTART:20231029T010000
END:STANDARD
BEGIN:DAYLIGHT
TZOFFSETFROM:+0100
TZOFFSETTO:+0200
TZNAME:CEST
DTSTART:20240331T010000
END:DAYLIGHT
BEGIN:STANDARD
TZOFFSETFROM:+0200
TZOFFSETTO:+0100
TZNAME:CET
DTSTART:20241027T010000
END:STANDARD
BEGIN:DAYLIGHT
TZOFFSETFROM:+0100
TZOFFSETTO:+0200
TZNAME:CEST
DTSTART:20250330T010000
END:DAYLIGHT
BEGIN:STANDARD
TZOFFSETFROM:+0200
TZOFFSETTO:+0100
TZNAME:CET
DTSTART:20251026T010000
END:STANDARD
END:VTIMEZONE
BEGIN:VEVENT
DTSTART;TZID=Europe/Berlin:20240901T110000
DTEND;TZID=Europe/Berlin:20240901T180000
DTSTAMP:20260425T225208
CREATED:20240831T135032Z
LAST-MODIFIED:20240831T143132Z
UID:2724-1725188400-1725213600@susannes-kreativzeit.de
SUMMARY:Sommerfest der AWO
DESCRIPTION:Malangebote auf dem Sommerfest der AWO am Berliner Platz 3 in Leverkusen-Opladen am 01.09.24 ab 11:00 Uhr.
URL:https://susannes-kreativzeit.de/veranstaltung/sommerfest-der-awo/
LOCATION:AWO Opladen\, Berliner Platz 3\, Leverkusen\, NRW\, 51379\, Germany
CATEGORIES:Fest
ATTACH;FMTTYPE=image/jpeg:https://susannes-kreativzeit.de/wp-content/uploads/2024/08/awo.jpg
END:VEVENT
END:VCALENDAR